BEGIN:VCALENDAR
VERSION:2.0
PRODID:Events Booking
BEGIN:VEVENT
UID:69e7322a44d56
SUMMARY:PERCORSO 04OROS 
DESCRIPTION:
DTSTART:20250323T000000Z
DTSTAMP:20241225T214030Z
ORGANIZER;CN=Arcieri della Selva:MAILTO:admin@arcieridellaselva.it
END:VEVENT
END:VCALENDAR