BEGIN:VCALENDAR
VERSION:2.0
PRODID:Events Booking
BEGIN:VEVENT
UID:69e735d126149
SUMMARY:ROUND 3D 04 SARE Lumezzane (BS)
DESCRIPTION:
DTSTART:20241013T000000Z
DTSTAMP:20240519T191453Z
ORGANIZER;CN=Arcieri della Selva:MAILTO:admin@arcieridellaselva.it
END:VEVENT
END:VCALENDAR