BEGIN:VCALENDAR
VERSION:2.0
PRODID:Events Booking
BEGIN:VEVENT
UID:69e735e515a2a
SUMMARY:ROUND 3D 04ALCE – Inveruno (MI)
DESCRIPTION:
DTSTART:20250413T000000Z
DTSTAMP:20240116T202010Z
ORGANIZER;CN=Arcieri della Selva:MAILTO:admin@arcieridellaselva.it
END:VEVENT
END:VCALENDAR