BEGIN:VCALENDAR
VERSION:2.0
PRODID:Events Booking
BEGIN:VEVENT
UID:69e76ae1be834
SUMMARY:ROUND 3D 04ASAI Valmorea CO
DESCRIPTION:
DTSTART:20260329T000000Z
DTSTAMP:20260102T144706Z
ORGANIZER;CN=Arcieri della Selva:MAILTO:admin@arcieridellaselva.it
END:VEVENT
END:VCALENDAR