BEGIN:VCALENDAR
VERSION:2.0
PRODID:Events Booking
BEGIN:VEVENT
UID:69e738654acfd
SUMMARY:ROUND 3D 04NAVE Monte Maddalena BS
DESCRIPTION:
DTSTART:20250316T000000Z
DTSTAMP:20241223T181956Z
ORGANIZER;CN=Arcieri della Selva:MAILTO:admin@arcieridellaselva.it
END:VEVENT
END:VCALENDAR